BEGIN:VCALENDAR
VERSION:2.0
PRODID:icalendar-ruby
CALSCALE:GREGORIAN
METHOD:PUBLISH
BEGIN:VEVENT
DTSTAMP:20260422T091330Z
UID:12-1287166@gwcfellowship.org
DTSTART:20261101T173000Z
DTEND:20261101T183000Z
CLASS:PUBLIC
CREATED:20260421T182834
DESCRIPTION:Sunday Worship
LAST-MODIFIED:20260421T182834
LOCATION:1668 S. Sycamore St. Petersburg\, VA 23805
SUMMARY:Sunday Worship
URL;VALUE=URI:https://gwcfellowship.org/events/sunday-worship/2026-11-01
END:VEVENT
END:VCALENDAR
