BEGIN:VCALENDAR
VERSION:2.0
PRODID:icalendar-ruby
CALSCALE:GREGORIAN
METHOD:PUBLISH
BEGIN:VEVENT
DTSTAMP:20260422T030653Z
UID:12-1287162@gwcfellowship.org
DTSTART:20261004T163000Z
DTEND:20261004T173000Z
CLASS:PUBLIC
CREATED:20260421T182834
DESCRIPTION:Sunday Worship
LAST-MODIFIED:20260421T182834
LOCATION:1668 S. Sycamore St. Petersburg\, VA 23805
SUMMARY:Sunday Worship
URL;VALUE=URI:https://gwcfellowship.org/events/sunday-worship/2026-10-04
END:VEVENT
END:VCALENDAR
