BEGIN:VCALENDAR
VERSION:2.0
PRODID:icalendar-ruby
CALSCALE:GREGORIAN
METHOD:PUBLISH
BEGIN:VEVENT
DTSTAMP:20260421T164557Z
UID:12-1286291@gwcfellowship.org
DTSTART:20260816T163000Z
DTEND:20260816T173000Z
CLASS:PUBLIC
CREATED:20260421T075531
DESCRIPTION:Sunday Worship
LAST-MODIFIED:20260421T075531
LOCATION:1668 S. Sycamore St. Petersburg\, VA 23805
SUMMARY:Sunday Worship
URL;VALUE=URI:https://gwcfellowship.org/events/sunday-worship/2026-08-16
END:VEVENT
END:VCALENDAR
