BEGIN:VCALENDAR
VERSION:2.0
PRODID:icalendar-ruby
CALSCALE:GREGORIAN
METHOD:PUBLISH
BEGIN:VEVENT
DTSTAMP:20260421T095113Z
UID:12-1285854@gwcfellowship.org
DTSTART:20260712T163000Z
DTEND:20260712T173000Z
CLASS:PUBLIC
CREATED:20260420T181254
DESCRIPTION:Sunday Worship
LAST-MODIFIED:20260420T181254
LOCATION:1668 S. Sycamore St. Petersburg\, VA 23805
SUMMARY:Sunday Worship
URL;VALUE=URI:https://gwcfellowship.org/events/sunday-worship/2026-07-12
END:VEVENT
END:VCALENDAR
